BEGIN:VCALENDAR
VERSION:2.0
PRODID:-//IBG Media - ECPv6.8.0//NONSGML v1.0//EN
CALSCALE:GREGORIAN
METHOD:PUBLISH
X-ORIGINAL-URL:https://mauwebsitedep.vn/ibgmedia
X-WR-CALDESC:Events for IBG Media
REFRESH-INTERVAL;VALUE=DURATION:PT1H
X-Robots-Tag:noindex
X-PUBLISHED-TTL:PT1H
BEGIN:VTIMEZONE
TZID:UTC
BEGIN:STANDARD
TZOFFSETFROM:+0000
TZOFFSETTO:+0000
TZNAME:UTC
DTSTART:20240101T000000
END:STANDARD
END:VTIMEZONE
BEGIN:VEVENT
DTSTART;TZID=UTC:20241029T080000
DTEND;TZID=UTC:20241029T170000
DTSTAMP:20260422T015344
CREATED:20241029T144359Z
LAST-MODIFIED:20241104T092132Z
UID:14509-1730188800-1730221200@mauwebsitedep.vn
SUMMARY:The launching Ceremony of ePass electronic toll collection system of Viettel
DESCRIPTION:About the event\nWith the goal set by the Ministry of Transport to position Vietnam among the top 10 countries in the region with the highest rate of vehicles using electronic toll tags\, Viettel has launched and put into operation the ePass electronic toll collection system. The event was attended by the Deputy Minister of Transport\, the Chairman and CEO of Viettel Group\, as well as representatives from various media agencies. \n \nDeliverables\n\nEvent Planning & Managements\nPR & Communications\nRoadshow across 30 provinces\n\nPhotos Event
URL:https://mauwebsitedep.vn/ibgmedia/event/the-launching-ceremony-of-epass-electronic-toll-collection-system-of-viettel/
CATEGORIES:Event Management
ATTACH;FMTTYPE=image/jpeg:https://mauwebsitedep.vn/ibgmedia/wp-content/uploads/2024/10/EPASS.jpg
END:VEVENT
BEGIN:VEVENT
DTSTART;TZID=UTC:20241029T080000
DTEND;TZID=UTC:20241029T170000
DTSTAMP:20260422T015344
CREATED:20241029T144822Z
LAST-MODIFIED:20241109T204851Z
UID:14513-1730188800-1730221200@mauwebsitedep.vn
SUMMARY:The launching Ceremony of Viettel 5G
DESCRIPTION:About the event\nAs part of the “Make in Vietnam” strategy\, Viettel Group has researched\, developed\, and piloted 5G not only in Hanoi and Ho Chi Minh City but also in industrial zones under the direction of the Ministry of Information and Communications. By deploying in these industrial zones\, the 5G network will provide robust support for the design\, operation\, and construction needs of smart factories. The event was attended by the Deputy Minister of Information and Communications\, the Chairman of the People’s Committee of Bac Ninh Province\, the Chairman and CEO of Viettel Group\, and representatives from various media agencies \nDeliverables:\n\nEvent Planning & Managements\nPR & Communications\n\nPhotos event
URL:https://mauwebsitedep.vn/ibgmedia/event/the-launching-ceremony-of-viettel-5g-2/
CATEGORIES:Event Management
ATTACH;FMTTYPE=image/jpeg:https://mauwebsitedep.vn/ibgmedia/wp-content/uploads/2024/03/Viettel-5G.jpg
END:VEVENT
END:VCALENDAR