BEGIN:VCALENDAR
VERSION:2.0
PRODID:-//IBG Media - ECPv6.8.0//NONSGML v1.0//EN
CALSCALE:GREGORIAN
METHOD:PUBLISH
X-WR-CALNAME:IBG Media
X-ORIGINAL-URL:https://mauwebsitedep.vn/ibgmedia
X-WR-CALDESC:Events for IBG Media
REFRESH-INTERVAL;VALUE=DURATION:PT1H
X-Robots-Tag:noindex
X-PUBLISHED-TTL:PT1H
BEGIN:VTIMEZONE
TZID:UTC
BEGIN:STANDARD
TZOFFSETFROM:+0000
TZOFFSETTO:+0000
TZNAME:UTC
DTSTART:20240101T000000
END:STANDARD
END:VTIMEZONE
BEGIN:VEVENT
DTSTART;TZID=UTC:20241110T080000
DTEND;TZID=UTC:20241110T170000
DTSTAMP:20260422T015137
CREATED:20241110T180925Z
LAST-MODIFIED:20241111T032039Z
UID:14649-1731225600-1731258000@mauwebsitedep.vn
SUMMARY:Hoa Binh Latrobe Prom Night
DESCRIPTION:About Event\nThe Prom Night of Hoa Binh Latrobe School is an annual event for high school students\, especially for 12th-grade students. The event attracts more than 1\,000 students\, teachers\, and parents. It serves as an opportunity for students to enrich their experiences and express gratitude to their teachers and friends throughout their academic journey. \nDeliverables\n\nEvent Planning & Managements\nMultimedia Production\nRecreation activities\n\nPhotos event\n          \n  \n  \n 
URL:https://mauwebsitedep.vn/ibgmedia/event/hoa-binh-latrobe-prom-night/
CATEGORIES:Event Management
ATTACH;FMTTYPE=image/jpeg:https://mauwebsitedep.vn/ibgmedia/wp-content/uploads/2024/03/HB.jpg
END:VEVENT
END:VCALENDAR